Workbook

Sheet политики+програми
A3: Отчет за изпълнението на бюджета с тримесечна информация за разходите по бюджетни програми по бюджета
A4: ="на МИНИСТЕРСТВО НА ВЪТРЕШНИТЕ РАБОТИ "&$A$8 -> на МИНИСТЕРСТВО НА ВЪТРЕШНИТЕ РАБОТИ към 30.09.2026 г.
A5: (наименование на бюджетната организация) (отчетен период)
A7: Отчет на разходите по области на политики/функционални области и бюджетни програми
A8: към 30.09.2026 г.
A9: (отчетен период)
A10: (в лева) | H10: (в евро)
A11: Класификационен код* | B11: Наименование на областта на политика/функционалната област /бюджетната програма | C11: Закон 2026 | D11: Уточнен план 2026 г. | E11: Отчет | F11: Отчет | G11: Отчет | H11: Отчет
E12: към | F12: към | G12: към | H12: към
E13: 31 март 2026 г. | F13: 30 юни 2026 г. | G13: 30 септември 2026 г. | H13: 31 декември 2026 г.
A14: 1300.01.00 | B14: Политика в областта на противодействието на престъпността и опазването на обществения ред | C14: =C15 -> 1225550200 | D14: =D15 -> 1231058295 | E14: =E15 -> 316519438 | F14: =F15 -> 652220575 | G14: =G15 -> 970080960 | H14: =H15 -> 0
A15: 1300.01.01 | B15: Бюджетна програма „Противодействие на престъпността, опазване на обществения ред и превенция” | C15: =Програми!C23 -> 1225550200 | D15: =Програми!D23 -> 1231058295 | E15: =Програми!E23 -> 316519438 | F15: =Програми!F23 -> 652220575 | G15: =Програми!G23 -> 970080960 | H15: =Програми!H23 -> 0
A17: 1300.02.00 | B17: Политика в областта на защитата на границите и контрол на миграционните процеси | C17: =C18 -> 325396000 | D17: =D18 -> 325396000 | E17: =E18 -> 80641457 | F17: =F18 -> 166043734 | G17: =G18 -> 250151896 | H17: =H18 -> 0
A18: 1300.02.01 | B18: Бюджетна програма „Граничен контрол, охрана на държавната граница, регулиране и контрол на миграционните процеси” | C18: =Програми!C44 -> 325396000 | D18: =Програми!D44 -> 325396000 | E18: =Програми!E44 -> 80641457 | F18: =Програми!F44 -> 166043734 | G18: =Програми!G44 -> 250151896 | H18: =Програми!H44 -> 0
A20: 1300.03.00 | B20: Политика в областта на пожарната безопасност и защитата на населението при извънредни ситуации | C20: =C21 -> 351618000 | D20: =D21 -> 351618000 | E20: =E21 -> 87335788 | F20: =F21 -> 178253382 | G20: =G21 -> 265278229 | H20: =H21 -> 0
A21: 1300.03.01 | B21: Бюджетна програма „Пожарна безопасност и защита на населението при пожари, бедствия и извънредни ситуации” | C21: =Програми!C65 -> 351618000 | D21: =Програми!D65 -> 351618000 | E21: =Програми!E65 -> 87335788 | F21: =Програми!F65 -> 178253382 | G21: =Програми!G65 -> 265278229 | H21: =Програми!H65 -> 0
A23: 1300.04.00 | B23: Политика в областта на управлението и развитието на системата на Министерството на вътрешните работи | C23: =C24+C25+C26 -> 212669000 | D23: =D24+D25+D26 -> 324939585 | E23: =E24+E25+E26 -> 54239852 | F23: =F24+F25+F26 -> 131315932 | G23: =G24+G25+G26 -> 200885897 | H23: =H24+H25+H26 -> 0
A24: 1300.04.01 | B24: Бюджетна програма „Информационно осигуряване и административно обслужване” | C24: =Програми!C86 -> 138555000 | D24: =Програми!D86 -> 240988588 | E24: =Програми!E86 -> 37874949 | F24: =Програми!F86 -> 88354769 | G24: =Програми!G86 -> 138628197 | H24: =Програми!H86 -> 0
A25: 1300.04.02 | B25: Бюджетна програма „Медицинско обслужване” | C25: =Програми!C107 -> 43516000 | D25: =Програми!D107 -> 53350973 | E25: =Програми!E107 -> 9810808 | F25: =Програми!F107 -> 29476175 | G25: =Програми!G107 -> 42303059 | H25: =Програми!H107 -> 0
A26: 1300.04.03 | B26: Бюджетна програма „Научни изследвания и разработки, обучение и квалификация” | C26: =Програми!C128 -> 30598000 | D26: =Програми!D128 -> 30600024 | E26: =Програми!E128 -> 6554095 | F26: =Програми!F128 -> 13484988 | G26: =Програми!G128 -> 19954641 | H26: =Програми!H128 -> 0
A28: Общо разходи | C28: =C14+C17+C20+C23 -> 2115233200 | D28: =D14+D17+D20+D23 -> 2233011880 | E28: =E14+E17+E20+E23 -> 538736535 | F28: =F14+F17+F20+F23 -> 1127833623 | G28: =G14+G17+G20+G23 -> 1686396982 | H28: =H14+H17+H20+H23 -> 0
A30: * Класификационен код съгласно Решение № 780 на Министерския съвет от 2023 г.

Sheet Програми
B3: Отчет на ведомствените и администрираните разходи по бюджетни програми
B4: ='политики+програми'!A8 -> към 30.09.2026 г.
B5: (отчетен период)
B6: 1300.01.01 - Бюджетна програма „Противодействие на престъпността, опазване на обществения ред и превенция”
B7: Разходи по бюджетната програма | C7: Закон 2026 | D7: Уточнен план 2026 г. | E7: Отчет | F7: Отчет | G7: Отчет | H7: Отчет
B8: (в евро) | E8: към | F8: към | G8: към | H8: към
E9: 31 март 2026 г. | F9: 30 юни 2026 г. | G9: 30 септември 2026 г. | H9: 31 декември 2026 г.
B10: I. Ведомствени разходи по бюджета | C10: =+C12+C13+C14 -> 1225203100 | D10: =+D12+D13+D14 -> 1230711195 | E10: =+E12+E13+E14 -> 316514438 | F10: =+F12+F13+F14 -> 652093808 | G10: =+G12+G13+G14 -> 969954193 | H10: =+H12+H13+H14 -> 0
B11: от тях за:
B12: Персонал | C12: 1182061400 | D12: 1187489319 | E12: 303016565 | F12: 622083824 | G12: 927334444
B13: Издръжка | C13: 38529200 | D13: =38907954-347100 -> 38560854 | E13: 12861113 | F13: 28056311 | G13: 39805042
B14: Капиталови разходи | C14: 4612500 | D14: 4661022 | E14: 636760 | F14: 1953673 | G14: 2814707
B16: II. Администрирани разходни параграфи по бюджета | C16: =+SUM(C17:C22) -> 347100 | D16: =+SUM(D17:D22) -> 347100 | E16: =+SUM(E17:E22) -> 5000 | F16: =+SUM(F17:F22) -> 126767 | G16: =+SUM(G17:G22) -> 126767 | H16: =+SUM(H17:H22) -> 0
B17: от тях:
B18: Стипендии
B19: Текущи трансфери, обезщетения и помощи за домакинствата
B20: Разходи за членски вноски и участие в нетърговски организации и дейности | C20: 347100 | D20: 347100 | E20: 5000 | F20: 126767 | G20: 126767
B21: Предоставени текущи и капиталови трансфери за чужбина
B23: Общо разходи по бюджета (I+II) | C23: =+C16+C10 -> 1225550200 | D23: =+D16+D10 -> 1231058295 | E23: =+E16+E10 -> 316519438 | F23: =+F16+F10 -> 652220575 | G23: =+G16+G10 -> 970080960 | H23: =+H16+H10 -> 0
B25: Численост на щатния персонал | C25: 29673 | D25: 29673 | E25: 28527 | F25: 28472 | G25: 28781
B27: 1300.02.01 - Бюджетна програма „Граничен контрол, охрана на държавната граница, регулиране и контрол на миграционните процеси”
B28: Разходи по бюджетната програма | C28: Закон 2026 | D28: Уточнен план 2026 г. | E28: Отчет | F28: Отчет | G28: Отчет | H28: Отчет
B29: (в евро) | E29: към | F29: към | G29: към | H29: към
E30: 31 март 2026 г. | F30: 30 юни 2026 г. | G30: 30 септември 2026 г. | H30: 31 декември 2026 г.
B31: I. Ведомствени разходи по бюджета | C31: =+C33+C34+C35 -> 325396000 | D31: =+D33+D34+D35 -> 325396000 | E31: =+E33+E34+E35 -> 80641457 | F31: =+F33+F34+F35 -> 166043734 | G31: =+G33+G34+G35 -> 250151896 | H31: =+H33+H34+H35 -> 0
B32: от тях за:
B33: Персонал | C33: 304896000 | D33: 304896000 | E33: 77977539 | F33: 159732022 | G33: 238378708
B34: Издръжка | C34: 14618000 | D34: 14618000 | E34: 2663918 | F34: 5432331 | G34: 8911879
B35: Капиталови разходи | C35: 5882000 | D35: 5882000 | F35: 879381 | G35: 2861309
B37: II. Администрирани разходни параграфи по бюджета | C37: =+SUM(C38:C43) -> 0 | D37: =+SUM(D38:D43) -> 0 | E37: =+SUM(E38:E43) -> 0 | F37: =+SUM(F38:F43) -> 0 | G37: =+SUM(G38:G43) -> 0 | H37: =+SUM(H38:H43) -> 0
B38: от тях:
B39: Стипендии
B40: Текущи трансфери, обезщетения и помощи за домакинствата
B41: Разходи за членски вноски и участие в нетърговски организации и дейности
B42: Предоставени текущи и капиталови трансфери за чужбина
B44: Общо разходи по бюджета (I+II) | C44: =+C37+C31 -> 325396000 | D44: =+D37+D31 -> 325396000 | E44: =+E37+E31 -> 80641457 | F44: =+F37+F31 -> 166043734 | G44: =+G37+G31 -> 250151896 | H44: =+H37+H31 -> 0
B46: Численост на щатния персонал | C46: 8761 | D46: 8761 | E46: 8182 | F46: 8131 | G46: 8080
B48: 1300.03.01 - Бюджетна програма „Пожарна безопасност и защита на населението при пожари, бедствия и извънредни ситуации”
B49: Разходи по бюджетната програма | C49: Закон 2026 | D49: Уточнен план 2026 г. | E49: Отчет | F49: Отчет | G49: Отчет | H49: Отчет
B50: (в евро) | E50: към | F50: към | G50: към | H50: към
...
