Workbook

Sheet политики+програми
A3: Отчет за изпълнението на бюджета с тримесечна информация за разходите по бюджетни програми по бюджета
A4: ="на МИНИСТЕРСТВО НА ВЪТРЕШНИТЕ РАБОТИ "&$A$8 -> на МИНИСТЕРСТВО НА ВЪТРЕШНИТЕ РАБОТИ към 30.09.2026 г.
A5: (наименование на бюджетната организация) (отчетен период)
A7: Отчет на разходите по области на политики/функционални области и бюджетни програми
A8: към 30.09.2026 г.
A9: (отчетен период)
A10: (в лева) | H10: (в евро)
A11: Класификационен код* | B11: Наименование на областта на политика/функционалната област /бюджетната програма | C11: Закон 2026 | D11: Уточнен план 2026 г. | E11: Отчет | F11: Отчет | G11: Отчет | H11: Отчет
E12: към | F12: към | G12: към | H12: към
E13: 31 март 2026 г. | F13: 30 юни 2026 г. | G13: 30 септември 2026 г. | H13: 31 декември 2026 г.
A14: 1300.01.00 | B14: Политика в областта на противодействието на престъпността и опазването на обществения ред | C14: =C15 -> 1225550200 | D14: =D15 -> 1231058295 | E14: =E15 -> 316519438 | F14: =F15 -> 652220575 | G14: =G15 -> 970080960 | H14: =H15 -> 0
A15: 1300.01.01 | B15: Бюджетна програма „Противодействие на престъпността, опазване на обществения ред и превенция” | C15: =Програми!C23 -> 1225550200 | D15: =Програми!D23 -> 1231058295 | E15: =Програми!E23 -> 316519438 | F15: =Програми!F23 -> 652220575 | G15: =Програми!G23 -> 970080960 | H15: =Програми!H23 -> 0
A17: 1300.02.00 | B17: Политика в областта на защитата на границите и контрол на миграционните процеси | C17: =C18 -> 325396000 | D17: =D18 -> 325396000 | E17: =E18 -> 80641457 | F17: =F18 -> 166043734 | G17: =G18 -> 250151896 | H17: =H18 -> 0
A18: 1300.02.01 | B18: Бюджетна програма „Граничен контрол, охрана на държавната граница, регулиране и контрол на миграционните процеси” | C18: =Програми!C44 -> 325396000 | D18: =Програми!D44 -> 325396000 | E18: =Програми!E44 -> 80641457 | F18: =Програми!F44 -> 166043734 | G18: =Програми!G44 -> 250151896 | H18: =Програми!H44 -> 0
A20: 1300.03.00 | B20: Политика в областта на пожарната безопасност и защитата на населението при извънредни ситуации | C20: =C21 -> 351618000 | D20: =D21 -> 351618000 | E20: =E21 -> 87335788 | F20: =F21 -> 178253382 | G20: =G21 -> 265278229 | H20: =H21 -> 0
A21: 1300.03.01 | B21: Бюджетна програма „Пожарна безопасност и защита на населението при пожари, бедствия и извънредни ситуации” | C21: =Програми!C65 -> 351618000 | D21: =Програми!D65 -> 351618000 | E21: =Програми!E65 -> 87335788 | F21: =Програми!F65 -> 178253382 | G21: =Програми!G65 -> 265278229 | H21: =Програми!H65 -> 0
A23: 1300.04.00 | B23: Политика в областта на управлението и развитието на системата на Министерството на вътрешните работи | C23: =C24+C25+C26 -> 212669000 | D23: =D24+D25+D26 -> 324939585 | E23: =E24+E25+E26 -> 54239852 | F23: =F24+F25+F26 -> 131315932 | G23: =G24+G25+G26 -> 200885897 | H23: =H24+H25+H26 -> 0
A24: 1300.04.01 | B24: Бюджетна програма „Информационно осигуряване и административно обслужване” | C24: =Програми!C86 -> 138555000 | D24: =Програми!D86 -> 240988588 | E24: =Програми!E86 -> 37874949 | F24: =Програми!F86 -> 88354769 | G24: =Програми!G86 -> 138628197 | H24: =Програми!H86 -> 0
A25: 1300.04.02 | B25: Бюджетна програма „Медицинско обслужване” | C25: =Програми!C107 -> 43516000 | D25: =Програми!D107 -> 53350973 | E25: =Програми!E107 -> 9810808 | F25: =Програми!F107 -> 29476175 | G25: =Програми!G107 -> 42303059 | H25: =Програми!H107 -> 0
A26: 1300.04.03 | B26: Бюджетна програма „Научни изследвания и разработки, обучение и квалификация” | C26: =Програми!C128 -> 30598000 | D26: =Програми!D128 -> 30600024 | E26: =Програми!E128 -> 6554095 | F26: =Програми!F128 -> 13484988 | G26: =Програми!G128 -> 19954641 | H26: =Програми!H128 -> 0
A28: Общо разходи | C28: =C14+C17+C20+C23 -> 2115233200 | D28: =D14+D17+D20+D23 -> 2233011880 | E28: =E14+E17+E20+E23 -> 538736535 | F28: =F14+F17+F20+F23 -> 1127833623 | G28: =G14+G17+G20+G23 -> 1686396982 | H28: =H14+H17+H20+H23 -> 0
A30: * Класификационен код съгласно Решение № 780 на Министерския съвет от 2023 г.

Sheet Програми
B3: Отчет на ведомствените и администрираните разходи по бюджетни програми
B4: ='политики+програми'!A8 -> към 30.09.2026 г.
B5: (отчетен период)
B6: 1300.01.01 - Бюджетна програма „Противодействие на престъпността, опазване на обществения ред и превенция”
B7: Разходи по бюджетната програма | C7: Закон 2026 | D7: Уточнен план 2026 г. | E7: Отчет | F7: Отчет | G7: Отчет | H7: Отчет
B8: (в евро) | E8: към | F8: към | G8: към | H8: към
E9: 31 март 2026 г. | F9: 30 юни 2026 г. | G9: 30 септември 2026 г. | H9: 31 декември 2026 г.
B10: I. Ведомствени разходи по бюджета | C10: =+C12+C13+C14 -> 1225203100 | D10: =+D12+D13+D14 -> 1230711195 | E10: =+E12+E13+E14 -> 316514438 | F10: =+F12+F13+F14 -> 652093808 | G10: =+G12+G13+G14 -> 969954193 | H10: =+H12+H13+H14 -> 0
B11: от тях за:
B12: Персонал | C12: 1182061400 | D12: 1187489319 | E12: 303016565 | F12: 622083824 | G12: 927334444
B13: Издръжка | C13: 38529200 | D13: =38907954-347100 -> 38560854 | E13: 12861113 | F13: 28056311 | G13: 39805042
B14: Капиталови разходи | C14: 4612500 | D14: 4661022 | E14: 636760 | F14: 1953673 | G14: 2814707
B16: II. Администрирани разходни параграфи по бюджета | C16: =+SUM(C17:C22) -> 347100 | D16: =+SUM(D17:D22) -> 347100 | E16: =+SUM(E17:E22) -> 5000 | F16: =+SUM(F17:F22) -> 126767 | G16: =+SUM(G17:G22) -> 126767 | H16: =+SUM(H17:H22) -> 0
B17: от тях:
B18: Стипендии
B19: Текущи трансфери, обезщетения и помощи за домакинствата
B20: Разходи за членски вноски и участие в нетърговски организации и дейности | C20: 347100 | D20: 347100 | E20: 5000 | F20: 126767 | G20: 126767
B21: Предоставени текущи и капиталови трансфери за чужбина
B23: Общо разходи по бюджета (I+II) | C23: =+C16+C10 -> 1225550200 | D23: =+D16+D10 -> 1231058295 | E23: =+E16+E10 -> 316519438 | F23: =+F16+F10 -> 652220575 | G23: =+G16+G10 -> 970080960 | H23: =+H16+H10 -> 0
B25: Численост на щатния персонал | C25: 29673 | D25: 29673 | E25: 28527 | F25: 28472 | G25: 28781
B27: 1300.02.01 - Бюджетна програма „Граничен контрол, охрана на държавната граница, регулиране и контрол на миграционните процеси”
B28: Разходи по бюджетната програма | C28: Закон 2026 | D28: Уточнен план 2026 г. | E28: Отчет | F28: Отчет | G28: Отчет | H28: Отчет
B29: (в евро) | E29: към | F29: към | G29: към | H29: към
E30: 31 март 2026 г. | F30: 30 юни 2026 г. | G30: 30 септември 2026 г. | H30: 31 декември 2026 г.
B31: I. Ведомствени разходи по бюджета | C31: =+C33+C34+C35 -> 325396000 | D31: =+D33+D34+D35 -> 325396000 | E31: =+E33+E34+E35 -> 80641457 | F31: =+F33+F34+F35 -> 166043734 | G31: =+G33+G34+G35 -> 250151896 | H31: =+H33+H34+H35 -> 0
B32: от тях за:
B33: Персонал | C33: 304896000 | D33: 304896000 | E33: 77977539 | F33: 159732022 | G33: 238378708
B34: Издръжка | C34: 14618000 | D34: 14618000 | E34: 2663918 | F34: 5432331 | G34: 8911879
B35: Капиталови разходи | C35: 5882000 | D35: 5882000 | F35: 879381 | G35: 2861309
B37: II. Администрирани разходни параграфи по бюджета | C37: =+SUM(C38:C43) -> 0 | D37: =+SUM(D38:D43) -> 0 | E37: =+SUM(E38:E43) -> 0 | F37: =+SUM(F38:F43) -> 0 | G37: =+SUM(G38:G43) -> 0 | H37: =+SUM(H38:H43) -> 0
B38: от тях:
B39: Стипендии
B40: Текущи трансфери, обезщетения и помощи за домакинствата
B41: Разходи за членски вноски и участие в нетърговски организации и дейности
B42: Предоставени текущи и капиталови трансфери за чужбина
B44: Общо разходи по бюджета (I+II) | C44: =+C37+C31 -> 325396000 | D44: =+D37+D31 -> 325396000 | E44: =+E37+E31 -> 80641457 | F44: =+F37+F31 -> 166043734 | G44: =+G37+G31 -> 250151896 | H44: =+H37+H31 -> 0
B46: Численост на щатния персонал | C46: 8761 | D46: 8761 | E46: 8182 | F46: 8131 | G46: 8080
B48: 1300.03.01 - Бюджетна програма „Пожарна безопасност и защита на населението при пожари, бедствия и извънредни ситуации”
B49: Разходи по бюджетната програма | C49: Закон 2026 | D49: Уточнен план 2026 г. | E49: Отчет | F49: Отчет | G49: Отчет | H49: Отчет
B50: (в евро) | E50: към | F50: към | G50: към | H50: към
E51: 31 март 2026 г. | F51: 30 юни 2026 г. | G51: 30 септември 2026 г. | H51: 31 декември 2026 г.
B52: I. Ведомствени разходи по бюджета | C52: =+C54+C55+C56 -> 351586200 | D52: =+D54+D55+D56 -> 351586200 | E52: =+E54+E55+E56 -> 87306885 | F52: =+F54+F55+F56 -> 178210066 | G52: =+G54+G55+G56 -> 265218533 | H52: =+H54+H55+H56 -> 0
B53: от тях за:
B54: Персонал | C54: 341856100 | D54: 341856100 | E54: 85896645 | F54: 174019051 | G54: 257861683
B55: Издръжка | C55: 8967200 | D55: =8999000-31800 -> 8967200 | E55: 1396850 | F55: 4162900 | G55: 7103014
B56: Капиталови разходи | C56: 762900 | D56: 762900 | E56: 13390 | F56: 28115 | G56: 253836
B58: II. Администрирани разходни параграфи по бюджета | C58: =+SUM(C59:C64) -> 31800 | D58: =+SUM(D59:D64) -> 31800 | E58: =+SUM(E59:E64) -> 28903 | F58: =+SUM(F59:F64) -> 43316 | G58: =+SUM(G59:G64) -> 59696 | H58: =+SUM(H59:H64) -> 0
B59: от тях:
B60: Стипендии
B61: Текущи трансфери, обезщетения и помощи за домакинствата | F61: 14260 | G61: 30640
B62: Разходи за членски вноски и участие в нетърговски организации и дейности | C62: 31800 | D62: 31800 | E62: 28903 | F62: 29056 | G62: 29056
B63: Предоставени текущи и капиталови трансфери за чужбина
B65: Общо разходи по бюджета (I+II) | C65: =+C58+C52 -> 351618000 | D65: =+D58+D52 -> 351618000 | E65: =+E58+E52 -> 87335788 | F65: =+F58+F52 -> 178253382 | G65: =+G58+G52 -> 265278229 | H65: =+H58+H52 -> 0
B67: Численост на щатния персонал | C67: 8269 | D67: 8269 | E67: 8125 | F67: 8069 | G67: 8053
B69: 1300.04.01 - Бюджетна програма „Информационно осигуряване и административно обслужване”
B70: Разходи по бюджетната програма | C70: Закон 2026 | D70: Уточнен план 2026 г. | E70: Отчет | F70: Отчет | G70: Отчет | H70: Отчет
B71: (в евро) | E71: към | F71: към | G71: към | H71: към
E72: 31 март 2026 г. | F72: 30 юни 2026 г. | G72: 30 септември 2026 г. | H72: 31 декември 2026 г.
B73: I. Ведомствени разходи по бюджета | C73: =+C75+C76+C77 -> 138477000 | D73: =+D75+D76+D77 -> 240910588 | E73: =+E75+E76+E77 -> 37719738 | F73: =+F75+F76+F77 -> 88117668 | G73: =+G75+G76+G77 -> 138348847 | H73: =+H75+H76+H77 -> 0
B74: от тях за:
B75: Персонал | C75: 86751000 | D75: 86751000 | E75: 19829524 | F75: 41587961 | G75: 64394515
B76: Издръжка | C76: 43866000 | D76: =70489528-78000 -> 70411528 | E76: 11689285 | F76: 24274521 | G76: 33797460
B77: Капиталови разходи | C77: 7860000 | D77: 83748060 | E77: 6200929 | F77: 22255186 | G77: 40156872
B79: II. Администрирани разходни параграфи по бюджета | C79: =+SUM(C80:C85) -> 78000 | D79: =+SUM(D80:D85) -> 78000 | E79: =+SUM(E80:E85) -> 155211 | F79: =+SUM(F80:F85) -> 237101 | G79: =+SUM(G80:G85) -> 279350 | H79: =+SUM(H80:H85) -> 0
B80: от тях:
B81: Стипендии
B82: Текущи трансфери, обезщетения и помощи за домакинствата | E82: 1023 | F82: 72913 | G82: 73396
B83: Разходи за членски вноски и участие в нетърговски организации и дейности | C83: 78000 | D83: 78000 | E83: 154188 | F83: 164188 | G83: 205954
B84: Предоставени текущи и капиталови трансфери за чужбина
B86: Общо разходи по бюджета (I+II) | C86: =+C79+C73 -> 138555000 | D86: =+D79+D73 -> 240988588 | E86: =+E79+E73 -> 37874949 | F86: =+F79+F73 -> 88354769 | G86: =+G79+G73 -> 138628197 | H86: =+H79+H73 -> 0
B88: Численост на щатния персонал | C88: 3293 | D88: 3293 | E88: 3516 | F88: 3770 | G88: 3712
B90: 1300.04.02 - Бюджетна програма „Медицинско обслужване”
B91: Разходи по бюджетната програма | C91: Закон 2026 | D91: Уточнен план 2026 г. | E91: Отчет | F91: Отчет | G91: Отчет | H91: Отчет
B92: (в евро) | E92: към | F92: към | G92: към | H92: към
E93: 31 март 2026 г. | F93: 30 юни 2026 г. | G93: 30 септември 2026 г. | H93: 31 декември 2026 г.
B94: I. Ведомствени разходи по бюджета | C94: =+C96+C97+C98 -> 43516000 | D94: =+D96+D97+D98 -> 53350973 | E94: =+E96+E97+E98 -> 9810808 | F94: =+F96+F97+F98 -> 29476175 | G94: =+G96+G97+G98 -> 42303059 | H94: =+H96+H97+H98 -> 0
B95: от тях за:
B96: Персонал | C96: 34665200 | D96: 38543675 | E96: 8657704 | F96: 17781762 | G96: 26546079
B97: Издръжка | C97: 2182000 | D97: 7966605 | E97: 1085411 | F97: 5665970 | G97: 9013715
B98: Капиталови разходи | C98: 6668800 | D98: 6840693 | E98: 67693 | F98: 6028443 | G98: 6743265
B100: II. Администрирани разходни параграфи по бюджета | C100: =+SUM(C101:C106) -> 0 | D100: =+SUM(D101:D106) -> 0 | E100: =+SUM(E101:E106) -> 0 | F100: =+SUM(F101:F106) -> 0 | G100: =+SUM(G101:G106) -> 0 | H100: =+SUM(H101:H106) -> 0
B101: от тях:
B102: Стипендии
B103: Текущи трансфери, обезщетения и помощи за домакинствата
B104: Разходи за членски вноски и участие в нетърговски организации и дейности
B105: Предоставени текущи и капиталови трансфери за чужбина
B107: Общо разходи по бюджета (I+II) | C107: =+C100+C94 -> 43516000 | D107: =+D100+D94 -> 53350973 | E107: =+E100+E94 -> 9810808 | F107: =+F100+F94 -> 29476175 | G107: =+G100+G94 -> 42303059 | H107: =+H100+H94 -> 0
B109: Численост на щатния персонал | C109: 1000 | D109: 1000 | E109: 927 | F109: 973 | G109: 952
B111: 1300.04.03 - Бюджетна програма „Научни изследвания и разработки, обучение и квалификация”
B112: Разходи по бюджетната програма | C112: Закон 2026 | D112: Уточнен план 2026 г. | E112: Отчет | F112: Отчет | G112: Отчет | H112: Отчет
B113: (в евро) | E113: към | F113: към | G113: към | H113: към
E114: 31 март 2026 г. | F114: 30 юни 2026 г. | G114: 30 септември 2026 г. | H114: 31 декември 2026 г.
B115: I. Ведомствени разходи по бюджета | C115: =+C117+C118+C119 -> 26397800 | D115: =+D117+D118+D119 -> 26399824 | E115: =+E117+E118+E119 -> 5564195 | F115: =+F117+F118+F119 -> 11319787 | G115: =+G117+G118+G119 -> 16670227 | H115: =+H117+H118+H119 -> 0
B116: от тях за:
B117: Персонал | C117: 22329700 | D117: 22330977 | E117: 5130539 | F117: 10229445 | G117: 15372613
B118: Издръжка | C118: 1764300 | D118: =5965247-4198400-1800 -> 1765047 | E118: 439171 | F118: 1095919 | G118: 1303191
B119: Капиталови разходи | C119: 2303800 | D119: 2303800 | E119: -5515 | F119: -5577 | G119: -5577
B121: II. Администрирани разходни параграфи по бюджета | C121: =+SUM(C122:C127) -> 4200200 | D121: =+SUM(D122:D127) -> 4200200 | E121: =+SUM(E122:E127) -> 989900 | F121: =+SUM(F122:F127) -> 2165201 | G121: =+SUM(G122:G127) -> 3284414 | H121: =+SUM(H122:H127) -> 0
B122: от тях:
B123: Стипендии | C123: 4198400 | D123: 4198400 | E123: 989900 | F123: 2164478 | G123: 3283691
...
